BEGIN:VCALENDAR
METHOD:PUBLISH
VERSION:2.0
PRODID:-//Apple Inc.//iCal 4.0.1//EN
BEGIN:VEVENT
UID:36421
DTSTAMP:20181219T021218Z
DTSTART;TZID=Pacific/Auckland:20181219T103000
DTEND;TZID=Pacific/Auckland:20181219T163000
SUMMARY:Make Your Own Christmas
DESCRIPTION:<![CDATA[FREE workshop\, all materials provided]]>
END:VEVENT

BEGIN:VEVENT
UID:8790362
DTSTAMP:20181219T021218Z
DTSTART;TZID=Pacific/Auckland:20181219T110000
DTEND;TZID=Pacific/Auckland:20181219T150000
SUMMARY:Make Your Own Christmas
DESCRIPTION:<![CDATA[Free workshops\, suitable all ages\, all materials provided]]>
END:VEVENT

BEGIN:VEVENT
UID:12124346
DTSTAMP:20181219T021218Z
DTSTART;TZID=Pacific/Auckland:20190105T090000
DTEND;TZID=Pacific/Auckland:20190105T120000
SUMMARY:Car Boot Sale
DESCRIPTION:<![CDATA[Proceeds to Wildlife Foxton Trust]]>
END:VEVENT

BEGIN:VEVENT
UID:4635996
DTSTAMP:20181219T021218Z
DTSTART;TZID=Pacific/Auckland:20190112T090000
DTEND;TZID=Pacific/Auckland:20190112T120000
SUMMARY:Car Boot Sale
DESCRIPTION:<![CDATA[Proceeds to Wildlife Foxton Trust]]>
END:VEVENT

BEGIN:VEVENT
UID:18718938
DTSTAMP:20181219T021218Z
DTSTART;TZID=Pacific/Auckland:20190112T100000
DTEND;TZID=Pacific/Auckland:20190112T130000
SUMMARY:Ashhurst Community Market
DESCRIPTION:<![CDATA[Locally sourced food\, crafts\, plants and more\, plus live music]]>
END:VEVENT

BEGIN:VEVENT
UID:14657622
DTSTAMP:20181219T021218Z
DTSTART;TZID=Pacific/Auckland:20190119T090000
DTEND;TZID=Pacific/Auckland:20190119T120000
SUMMARY:Car Boot Sale
DESCRIPTION:<![CDATA[Proceeds to Wildlife Foxton Trust]]>
END:VEVENT

BEGIN:VEVENT
UID:12999469
DTSTAMP:20181219T021218Z
DTSTART;TZID=Pacific/Auckland:20190126T090000
DTEND;TZID=Pacific/Auckland:20190126T120000
SUMMARY:Car Boot Sale
DESCRIPTION:<![CDATA[Proceeds to Wildlife Foxton Trust]]>
END:VEVENT

BEGIN:VEVENT
UID:16237163
DTSTAMP:20181219T021218Z
DTSTART;TZID=Pacific/Auckland:20190202T090000
DTEND;TZID=Pacific/Auckland:20190202T120000
SUMMARY:Car Boot Sale
DESCRIPTION:<![CDATA[Proceeds to Wildlife Foxton Trust]]>
END:VEVENT

BEGIN:VEVENT
UID:22534273
DTSTAMP:20181219T021218Z
DTSTART;TZID=Pacific/Auckland:20190209T090000
DTEND;TZID=Pacific/Auckland:20190209T120000
SUMMARY:Car Boot Sale
DESCRIPTION:<![CDATA[Proceeds to Wildlife Foxton Trust]]>
END:VEVENT

BEGIN:VEVENT
UID:10197314
DTSTAMP:20181219T021218Z
DTSTART;TZID=Pacific/Auckland:20190209T100000
DTEND;TZID=Pacific/Auckland:20190209T130000
SUMMARY:Ashhurst Community Market
DESCRIPTION:<![CDATA[Locally sourced food\, crafts\, plants and more\, plus live music]]>
END:VEVENT

BEGIN:VEVENT
UID:10595310
DTSTAMP:20181219T021218Z
DTSTART;TZID=Pacific/Auckland:20190216T090000
DTEND;TZID=Pacific/Auckland:20190216T120000
SUMMARY:Car Boot Sale
DESCRIPTION:<![CDATA[Proceeds to Wildlife Foxton Trust]]>
END:VEVENT

BEGIN:VEVENT
UID:7111418
DTSTAMP:20181219T021218Z
DTSTART;TZID=Pacific/Auckland:20190223T090000
DTEND;TZID=Pacific/Auckland:20190223T120000
SUMMARY:Car Boot Sale
DESCRIPTION:<![CDATA[Proceeds to Wildlife Foxton Trust]]>
END:VEVENT

BEGIN:VEVENT
UID:20113016
DTSTAMP:20181219T021218Z
DTSTART;TZID=Pacific/Auckland:20190302T090000
DTEND;TZID=Pacific/Auckland:20190302T120000
SUMMARY:Car Boot Sale
DESCRIPTION:<![CDATA[Proceeds to Wildlife Foxton Trust]]>
END:VEVENT

BEGIN:VEVENT
UID:5402719
DTSTAMP:20181219T021218Z
DTSTART;TZID=Pacific/Auckland:20190309T090000
DTEND;TZID=Pacific/Auckland:20190309T120000
SUMMARY:Car Boot Sale
DESCRIPTION:<![CDATA[Proceeds to Wildlife Foxton Trust]]>
END:VEVENT

BEGIN:VEVENT
UID:21123242
DTSTAMP:20181219T021218Z
DTSTART;TZID=Pacific/Auckland:20190309T100000
DTEND;TZID=Pacific/Auckland:20190309T130000
SUMMARY:Ashhurst Community Market
DESCRIPTION:<![CDATA[Locally sourced food\, crafts\, plants and more\, plus live music]]>
END:VEVENT

BEGIN:VEVENT
UID:3130848
DTSTAMP:20181219T021218Z
DTSTART;TZID=Pacific/Auckland:20190316T090000
DTEND;TZID=Pacific/Auckland:20190316T120000
SUMMARY:Car Boot Sale
DESCRIPTION:<![CDATA[Proceeds to Wildlife Foxton Trust]]>
END:VEVENT

BEGIN:VEVENT
UID:7069208
DTSTAMP:20181219T021218Z
DTSTART;TZID=Pacific/Auckland:20190323T090000
DTEND;TZID=Pacific/Auckland:20190323T120000
SUMMARY:Car Boot Sale
DESCRIPTION:<![CDATA[Proceeds to Wildlife Foxton Trust]]>
END:VEVENT

BEGIN:VEVENT
UID:16412530
DTSTAMP:20181219T021218Z
DTSTART;TZID=Pacific/Auckland:20190330T090000
DTEND;TZID=Pacific/Auckland:20190330T120000
SUMMARY:Car Boot Sale
DESCRIPTION:<![CDATA[Proceeds to Wildlife Foxton Trust]]>
END:VEVENT

BEGIN:VEVENT
UID:7488624
DTSTAMP:20181219T021218Z
DTSTART;TZID=Pacific/Auckland:20190406T090000
DTEND;TZID=Pacific/Auckland:20190406T120000
SUMMARY:Car Boot Sale
DESCRIPTION:<![CDATA[Proceeds to Wildlife Foxton Trust]]>
END:VEVENT

BEGIN:VEVENT
UID:6021888
DTSTAMP:20181219T021218Z
DTSTART;TZID=Pacific/Auckland:20190413T090000
DTEND;TZID=Pacific/Auckland:20190413T120000
SUMMARY:Car Boot Sale
DESCRIPTION:<![CDATA[Proceeds to Wildlife Foxton Trust]]>
END:VEVENT

BEGIN:VEVENT
UID:7154461
DTSTAMP:20181219T021218Z
DTSTART;TZID=Pacific/Auckland:20190413T100000
DTEND;TZID=Pacific/Auckland:20190413T130000
SUMMARY:Ashhurst Community Market
DESCRIPTION:<![CDATA[Locally sourced food\, crafts\, plants and more\, plus live music]]>
END:VEVENT

BEGIN:VEVENT
UID:19881424
DTSTAMP:20181219T021218Z
DTSTART;TZID=Pacific/Auckland:20190420T090000
DTEND;TZID=Pacific/Auckland:20190420T120000
SUMMARY:Car Boot Sale
DESCRIPTION:<![CDATA[Proceeds to Wildlife Foxton Trust]]>
END:VEVENT

BEGIN:VEVENT
UID:6058308
DTSTAMP:20181219T021218Z
DTSTART;TZID=Pacific/Auckland:20190427T090000
DTEND;TZID=Pacific/Auckland:20190427T120000
SUMMARY:Car Boot Sale
DESCRIPTION:<![CDATA[Proceeds to Wildlife Foxton Trust]]>
END:VEVENT

BEGIN:VEVENT
UID:6160731
DTSTAMP:20181219T021218Z
DTSTART;TZID=Pacific/Auckland:20190511T100000
DTEND;TZID=Pacific/Auckland:20190511T130000
SUMMARY:Ashhurst Community Market
DESCRIPTION:<![CDATA[Locally sourced food\, crafts\, plants and more\, plus live music]]>
END:VEVENT

BEGIN:VEVENT
UID:2398224
DTSTAMP:20181219T021218Z
DTSTART;TZID=Pacific/Auckland:20190608T100000
DTEND;TZID=Pacific/Auckland:20190608T130000
SUMMARY:Ashhurst Community Market
DESCRIPTION:<![CDATA[Locally sourced food\, crafts\, plants and more\, plus live music]]>
END:VEVENT
CALSCALE:GREGORIAN
END:VCALENDAR
 