BEGIN:VCALENDAR
METHOD:PUBLISH
VERSION:2.0
PRODID:-//Apple Inc.//iCal 4.0.1//EN
BEGIN:VEVENT
UID:8917535
DTSTAMP:20181219T021213Z
DTSTART;TZID=Pacific/Auckland:20181217T110000
DTEND;TZID=Pacific/Auckland:20181217T150000
SUMMARY:Make Your Own Christmas
DESCRIPTION:<![CDATA[Free workshops\, suitable all ages\, all materials provided]]>
END:VEVENT
CALSCALE:GREGORIAN
END:VCALENDAR
 